Workbook

Sheet Page 1 Hazard Risk Assessment
A1: Selkirk College Working Alone or in Isolation Supplementary Risk Assessment Worksheet
A3: This Section Must be Completed for All Workers | F3: Table 1: Likelihood of Help Being Available
A4: Job Title: | C4: Date: | F4: Almost Never: Worker is in an isolated area with no one likely to pass by or see the worker for 2 hours of more
A5: Does the Employee Work Alone? | C5: Assessment By: | F5: Rare: Work is in an area where the public and other employees come by occasionally, e.g. every 30 to 60 minutes
F6: Occasionally: Worker is in an area where there is regular traffic e.g. every 30 minutes or so
A7: Employee Name: | C7: Supervisor Name: | F7: Usual: Worker is out of site or isolated from the public and employees but other employees come by on a regular and frequent basis, e.g. every 15 to 30 minutes
F8: Frequently: The worker is in an area used by other people who pass by often enough that there is a high likelihood of witnesses
A9: Check-in Required | B9: =IF(J17=0,"Auto Calculation Based on Risk Score",IF(J17<200,"Low - No check-in procedure is required but may still be implemented",IF(AND(J17>200,J17<=400),"Moderate - A check-in procedure must be implemented. Recommended: minimum of beginning and end of shift. Complete page 2.",IF(J17>400,"High - Checks must be frequent and other mitigation considered and implemented. Recommended check-in every two hours.","")))) -> Auto Calculation Based on Risk Score | F9: Continuous: Worker is in an area where there is a high volume of customers or employees
A13: To work alone or in isolation means to work in circumstances where assistance would not be readily available to the worker in case of emergency, or in case the worker is injured or in ill health
A14: This Section Must be Completed for All Workers that Work Alone
A15: Hazard | D15: Risk Factors | K15: Controls
A16: Check All That Apply While Working Alone | B16: Types of Hazard *as sourced from Canadian Centre for Occupational Health and Safety | C16: Probable Outcome Based on Hazards | D16: Likelihood of Accident Occurring Select from Drop Down List | F16: Likelihood of Worker Being Unable to Yell for Help Select from Drop Down List | H16: Likelihood of Help Being Available Select from Drop Down List, See Table 1 | J16: Risk Score | K16: Further Controls to be Put in Place, if any
J17: =SUM(J19:J23)+SUM(J25:J29)+SUM(J31:J34)+SUM(J36:J41)+SUM(J43:J48)+SUM(J50:J56) -> 0
A18: Substances
B19: Hazardous Chemicals | E19: =IF(D19="Will probably happen",10,IF(D19="Very high likelihood of occurring",8,IF(D19="Is quite possible/Has happened before",6,IF(D19="Would be an unusual event",4,IF(D19="Would be remotely possible",2,IF(D19="Would be extremely remote but possible",0.5,IF(D19="Would be almost impossible",0.1,""))))))) | G19: =IF(F19="The expected result",10,IF(F19="The probable result",8,IF(F19="An unusual result",6,IF(F19="A remotely possible event",4,IF(F19="A practically impossible result",2,""))))) | I19: =IF(H19="Almost Never",12,IF(H19="Rare",8,IF(H19="Occasionally",6,IF(H19="Usual",4,IF(H19="Frequently",2,IF(H19="Continuous",1,"")))))) | J19: =IF(D19="Will probably happen",SUM(I19*G19*E19),IF(D19="Very high likelihood of occurring",SUM(I19*G19*E19),IF(D19="Is quite possible/Has happened before",SUM(I19*G19*E19),IF(D19="Would be an unusual event",SUM(I19*G19*E19),IF(D19="Would be remotely possible",SUM(I19*G19*E19),IF(D19="Would be extremely remote but possible",SUM(I19*G19*E19),IF(D19="Would be almost impossible",SUM(I19*G19*E19),"")))))))
B20: Explosive Materials | E20: =IF(D20="Will probably happen",10,IF(D20="Very high likelihood of occurring",8,IF(D20="Is quite possible/Has happened before",6,IF(D20="Would be an unusual event",4,IF(D20="Would be remotely possible",2,IF(D20="Would be extremely remote but possible",0.5,IF(D20="Would be almost impossible",0.1,""))))))) | G20: =IF(F20="The expected result",10,IF(F20="The probable result",8,IF(F20="An unusual result",6,IF(F20="A remotely possible event",4,IF(F20="A practically impossible result",2,""))))) | I20: =IF(H20="Almost Never",12,IF(H20="Rare",8,IF(H20="Occasionally",6,IF(H20="Usual",4,IF(H20="Frequently",2,IF(H20="Continuous",1,"")))))) | J20: =IF(D20="Will probably happen",SUM(I20*G20*E20),IF(D20="Very high likelihood of occurring",SUM(I20*G20*E20),IF(D20="Is quite possible/Has happened before",SUM(I20*G20*E20),IF(D20="Would be an unusual event",SUM(I20*G20*E20),IF(D20="Would be remotely possible",SUM(I20*G20*E20),IF(D20="Would be extremely remote but possible",SUM(I20*G20*E20),IF(D20="Would be almost impossible",SUM(I20*G20*E20),"")))))))
B21: Infections Agents | E21: =IF(D21="Will probably happen",10,IF(D21="Very high likelihood of occurring",8,IF(D21="Is quite possible/Has happened before",6,IF(D21="Would be an unusual event",4,IF(D21="Would be remotely possible",2,IF(D21="Would be extremely remote but possible",0.5,IF(D21="Would be almost impossible",0.1,""))))))) | G21: =IF(F21="The expected result",10,IF(F21="The probable result",8,IF(F21="An unusual result",6,IF(F21="A remotely possible event",4,IF(F21="A practically impossible result",2,""))))) | I21: =IF(H21="Almost Never",12,IF(H21="Rare",8,IF(H21="Occasionally",6,IF(H21="Usual",4,IF(H21="Frequently",2,IF(H21="Continuous",1,"")))))) | J21: =IF(D21="Will probably happen",SUM(I21*G21*E21),IF(D21="Very high likelihood of occurring",SUM(I21*G21*E21),IF(D21="Is quite possible/Has happened before",SUM(I21*G21*E21),IF(D21="Would be an unusual event",SUM(I21*G21*E21),IF(D21="Would be remotely possible",SUM(I21*G21*E21),IF(D21="Would be extremely remote but possible",SUM(I21*G21*E21),IF(D21="Would be almost impossible",SUM(I21*G21*E21),"")))))))
A22: Other | E22: =IF(D22="Will probably happen",10,IF(D22="Very high likelihood of occurring",8,IF(D22="Is quite possible/Has happened before",6,IF(D22="Would be an unusual event",4,IF(D22="Would be remotely possible",2,IF(D22="Would be extremely remote but possible",0.5,IF(D22="Would be almost impossible",0.1,""))))))) | G22: =IF(F22="The expected result",10,IF(F22="The probable result",8,IF(F22="An unusual result",6,IF(F22="A remotely possible event",4,IF(F22="A practically impossible result",2,""))))) | I22: =IF(H22="Almost Never",12,IF(H22="Rare",8,IF(H22="Occasionally",6,IF(H22="Usual",4,IF(H22="Frequently",2,IF(H22="Continuous",1,"")))))) | J22: =IF(D22="Will probably happen",SUM(I22*G22*E22),IF(D22="Very high likelihood of occurring",SUM(I22*G22*E22),IF(D22="Is quite possible/Has happened before",SUM(I22*G22*E22),IF(D22="Would be an unusual event",SUM(I22*G22*E22),IF(D22="Would be remotely possible",SUM(I22*G22*E22),IF(D22="Would be extremely remote but possible",SUM(I22*G22*E22),IF(D22="Would be almost impossible",SUM(I22*G22*E22),"")))))))
A23: Other | E23: =IF(D23="Will probably happen",10,IF(D23="Very high likelihood of occurring",8,IF(D23="Is quite possible/Has happened before",6,IF(D23="Would be an unusual event",4,IF(D23="Would be remotely possible",2,IF(D23="Would be extremely remote but possible",0.5,IF(D23="Would be almost impossible",0.1,""))))))) | G23: =IF(F23="The expected result",10,IF(F23="The probable result",8,IF(F23="An unusual result",6,IF(F23="A remotely possible event",4,IF(F23="A practically impossible result",2,""))))) | I23: =IF(H23="Almost Never",12,IF(H23="Rare",8,IF(H23="Occasionally",6,IF(H23="Usual",4,IF(H23="Frequently",2,IF(H23="Continuous",1,"")))))) | J23: =IF(D23="Will probably happen",SUM(I23*G23*E23),IF(D23="Very high likelihood of occurring",SUM(I23*G23*E23),IF(D23="Is quite possible/Has happened before",SUM(I23*G23*E23),IF(D23="Would be an unusual event",SUM(I23*G23*E23),IF(D23="Would be remotely possible",SUM(I23*G23*E23),IF(D23="Would be extremely remote but possible",SUM(I23*G23*E23),IF(D23="Would be almost impossible",SUM(I23*G23*E23),"")))))))
A24: Ergonomic
B25: Lifting | E25: =IF(D25="Will probably happen",10,IF(D25="Very high likelihood of occurring",8,IF(D25="Is quite possible/Has happened before",6,IF(D25="Would be an unusual event",4,IF(D25="Would be remotely possible",2,IF(D25="Would be extremely remote but possible",0.5,IF(D25="Would be almost impossible",0.1,""))))))) | G25: =IF(F25="The expected result",10,IF(F25="The probable result",8,IF(F25="An unusual result",6,IF(F25="A remotely possible event",4,IF(F25="A practically impossible result",2,""))))) | I25: =IF(H25="Almost Never",12,IF(H25="Rare",8,IF(H25="Occasionally",6,IF(H25="Usual",4,IF(H25="Frequently",2,IF(H25="Continuous",1,"")))))) | J25: =IF(D25="Will probably happen",SUM(I25*G25*E25),IF(D25="Very high likelihood of occurring",SUM(I25*G25*E25),IF(D25="Is quite possible/Has happened before",SUM(I25*G25*E25),IF(D25="Would be an unusual event",SUM(I25*G25*E25),IF(D25="Would be remotely possible",SUM(I25*G25*E25),IF(D25="Would be extremely remote but possible",SUM(I25*G25*E25),IF(D25="Would be almost impossible",SUM(I25*G25*E25),"")))))))
B26: Pushing | E26: =IF(D26="Will probably happen",10,IF(D26="Very high likelihood of occurring",8,IF(D26="Is quite possible/Has happened before",6,IF(D26="Would be an unusual event",4,IF(D26="Would be remotely possible",2,IF(D26="Would be extremely remote but possible",0.5,IF(D26="Would be almost impossible",0.1,""))))))) | G26: =IF(F26="The expected result",10,IF(F26="The probable result",8,IF(F26="An unusual result",6,IF(F26="A remotely possible event",4,IF(F26="A practically impossible result",2,""))))) | I26: =IF(H26="Almost Never",12,IF(H26="Rare",8,IF(H26="Occasionally",6,IF(H26="Usual",4,IF(H26="Frequently",2,IF(H26="Continuous",1,"")))))) | J26: =IF(D26="Will probably happen",SUM(I26*G26*E26),IF(D26="Very high likelihood of occurring",SUM(I26*G26*E26),IF(D26="Is quite possible/Has happened before",SUM(I26*G26*E26),IF(D26="Would be an unusual event",SUM(I26*G26*E26),IF(D26="Would be remotely possible",SUM(I26*G26*E26),IF(D26="Would be extremely remote but possible",SUM(I26*G26*E26),IF(D26="Would be almost impossible",SUM(I26*G26*E26),"")))))))
B27: Pulling | E27: =IF(D27="Will probably happen",10,IF(D27="Very high likelihood of occurring",8,IF(D27="Is quite possible/Has happened before",6,IF(D27="Would be an unusual event",4,IF(D27="Would be remotely possible",2,IF(D27="Would be extremely remote but possible",0.5,IF(D27="Would be almost impossible",0.1,""))))))) | G27: =IF(F27="The expected result",10,IF(F27="The probable result",8,IF(F27="An unusual result",6,IF(F27="A remotely possible event",4,IF(F27="A practically impossible result",2,""))))) | I27: =IF(H27="Almost Never",12,IF(H27="Rare",8,IF(H27="Occasionally",6,IF(H27="Usual",4,IF(H27="Frequently",2,IF(H27="Continuous",1,"")))))) | J27: =IF(D27="Will probably happen",SUM(I27*G27*E27),IF(D27="Very high likelihood of occurring",SUM(I27*G27*E27),IF(D27="Is quite possible/Has happened before",SUM(I27*G27*E27),IF(D27="Would be an unusual event",SUM(I27*G27*E27),IF(D27="Would be remotely possible",SUM(I27*G27*E27),IF(D27="Would be extremely remote but possible",SUM(I27*G27*E27),IF(D27="Would be almost impossible",SUM(I27*G27*E27),"")))))))
A28: Other | E28: =IF(D28="Will probably happen",10,IF(D28="Very high likelihood of occurring",8,IF(D28="Is quite possible/Has happened before",6,IF(D28="Would be an unusual event",4,IF(D28="Would be remotely possible",2,IF(D28="Would be extremely remote but possible",0.5,IF(D28="Would be almost impossible",0.1,""))))))) | G28: =IF(F28="The expected result",10,IF(F28="The probable result",8,IF(F28="An unusual result",6,IF(F28="A remotely possible event",4,IF(F28="A practically impossible result",2,""))))) | I28: =IF(H28="Almost Never",12,IF(H28="Rare",8,IF(H28="Occasionally",6,IF(H28="Usual",4,IF(H28="Frequently",2,IF(H28="Continuous",1,"")))))) | J28: =IF(D28="Will probably happen",SUM(I28*G28*E28),IF(D28="Very high likelihood of occurring",SUM(I28*G28*E28),IF(D28="Is quite possible/Has happened before",SUM(I28*G28*E28),IF(D28="Would be an unusual event",SUM(I28*G28*E28),IF(D28="Would be remotely possible",SUM(I28*G28*E28),IF(D28="Would be extremely remote but possible",SUM(I28*G28*E28),IF(D28="Would be almost impossible",SUM(I28*G28*E28),"")))))))
A29: Other | E29: =IF(D29="Will probably happen",10,IF(D29="Very high likelihood of occurring",8,IF(D29="Is quite possible/Has happened before",6,IF(D29="Would be an unusual event",4,IF(D29="Would be remotely possible",2,IF(D29="Would be extremely remote but possible",0.5,IF(D29="Would be almost impossible",0.1,""))))))) | G29: =IF(F29="The expected result",10,IF(F29="The probable result",8,IF(F29="An unusual result",6,IF(F29="A remotely possible event",4,IF(F29="A practically impossible result",2,""))))) | I29: =IF(H29="Almost Never",12,IF(H29="Rare",8,IF(H29="Occasionally",6,IF(H29="Usual",4,IF(H29="Frequently",2,IF(H29="Continuous",1,"")))))) | J29: =IF(D29="Will probably happen",SUM(I29*G29*E29),IF(D29="Very high likelihood of occurring",SUM(I29*G29*E29),IF(D29="Is quite possible/Has happened before",SUM(I29*G29*E29),IF(D29="Would be an unusual event",SUM(I29*G29*E29),IF(D29="Would be remotely possible",SUM(I29*G29*E29),IF(D29="Would be extremely remote but possible",SUM(I29*G29*E29),IF(D29="Would be almost impossible",SUM(I29*G29*E29),"")))))))
A30: Environment
B31: Biological - plants or animals | E31: =IF(D31="Will probably happen",10,IF(D31="Very high likelihood of occurring",8,IF(D31="Is quite possible/Has happened before",6,IF(D31="Would be an unusual event",4,IF(D31="Would be remotely possible",2,IF(D31="Would be extremely remote but possible",0.5,IF(D31="Would be almost impossible",0.1,""))))))) | G31: =IF(F31="The expected result",10,IF(F31="The probable result",8,IF(F31="An unusual result",6,IF(F31="A remotely possible event",4,IF(F31="A practically impossible result",2,""))))) | I31: =IF(H31="Almost Never",12,IF(H31="Rare",8,IF(H31="Occasionally",6,IF(H31="Usual",4,IF(H31="Frequently",2,IF(H31="Continuous",1,"")))))) | J31: =IF(D31="Will probably happen",SUM(I31*G31*E31),IF(D31="Very high likelihood of occurring",SUM(I31*G31*E31),IF(D31="Is quite possible/Has happened before",SUM(I31*G31*E31),IF(D31="Would be an unusual event",SUM(I31*G31*E31),IF(D31="Would be remotely possible",SUM(I31*G31*E31),IF(D31="Would be extremely remote but possible",SUM(I31*G31*E31),IF(D31="Would be almost impossible",SUM(I31*G31*E31),"")))))))
B32: Diseases or disorders arising from work - including heat stroke | E32: =IF(D32="Will probably happen",10,IF(D32="Very high likelihood of occurring",8,IF(D32="Is quite possible/Has happened before",6,IF(D32="Would be an unusual event",4,IF(D32="Would be remotely possible",2,IF(D32="Would be extremely remote but possible",0.5,IF(D32="Would be almost impossible",0.1,""))))))) | G32: =IF(F32="The expected result",10,IF(F32="The probable result",8,IF(F32="An unusual result",6,IF(F32="A remotely possible event",4,IF(F32="A practically impossible result",2,""))))) | I32: =IF(H32="Almost Never",12,IF(H32="Rare",8,IF(H32="Occasionally",6,IF(H32="Usual",4,IF(H32="Frequently",2,IF(H32="Continuous",1,"")))))) | J32: =IF(D32="Will probably happen",SUM(I32*G32*E32),IF(D32="Very high likelihood of occurring",SUM(I32*G32*E32),IF(D32="Is quite possible/Has happened before",SUM(I32*G32*E32),IF(D32="Would be an unusual event",SUM(I32*G32*E32),IF(D32="Would be remotely possible",SUM(I32*G32*E32),IF(D32="Would be extremely remote but possible",SUM(I32*G32*E32),IF(D32="Would be almost impossible",SUM(I32*G32*E32),"")))))))
A33: Other | E33: =IF(D33="Will probably happen",10,IF(D33="Very high likelihood of occurring",8,IF(D33="Is quite possible/Has happened before",6,IF(D33="Would be an unusual event",4,IF(D33="Would be remotely possible",2,IF(D33="Would be extremely remote but possible",0.5,IF(D33="Would be almost impossible",0.1,""))))))) | G33: =IF(F33="The expected result",10,IF(F33="The probable result",8,IF(F33="An unusual result",6,IF(F33="A remotely possible event",4,IF(F33="A practically impossible result",2,""))))) | I33: =IF(H33="Almost Never",12,IF(H33="Rare",8,IF(H33="Occasionally",6,IF(H33="Usual",4,IF(H33="Frequently",2,IF(H33="Continuous",1,"")))))) | J33: =IF(D33="Will probably happen",SUM(I33*G33*E33),IF(D33="Very high likelihood of occurring",SUM(I33*G33*E33),IF(D33="Is quite possible/Has happened before",SUM(I33*G33*E33),IF(D33="Would be an unusual event",SUM(I33*G33*E33),IF(D33="Would be remotely possible",SUM(I33*G33*E33),IF(D33="Would be extremely remote but possible",SUM(I33*G33*E33),IF(D33="Would be almost impossible",SUM(I33*G33*E33),"")))))))
A34: Other | E34: =IF(D34="Will probably happen",10,IF(D34="Very high likelihood of occurring",8,IF(D34="Is quite possible/Has happened before",6,IF(D34="Would be an unusual event",4,IF(D34="Would be remotely possible",2,IF(D34="Would be extremely remote but possible",0.5,IF(D34="Would be almost impossible",0.1,""))))))) | G34: =IF(F34="The expected result",10,IF(F34="The probable result",8,IF(F34="An unusual result",6,IF(F34="A remotely possible event",4,IF(F34="A practically impossible result",2,""))))) | I34: =IF(H34="Almost Never",12,IF(H34="Rare",8,IF(H34="Occasionally",6,IF(H34="Usual",4,IF(H34="Frequently",2,IF(H34="Continuous",1,"")))))) | J34: =IF(D34="Will probably happen",SUM(I34*G34*E34),IF(D34="Very high likelihood of occurring",SUM(I34*G34*E34),IF(D34="Is quite possible/Has happened before",SUM(I34*G34*E34),IF(D34="Would be an unusual event",SUM(I34*G34*E34),IF(D34="Would be remotely possible",SUM(I34*G34*E34),IF(D34="Would be extremely remote but possible",SUM(I34*G34*E34),IF(D34="Would be almost impossible",SUM(I34*G34*E34),"")))))))
A35: Physical
B36: Temperature | E36: =IF(D36="Will probably happen",10,IF(D36="Very high likelihood of occurring",8,IF(D36="Is quite possible/Has happened before",6,IF(D36="Would be an unusual event",4,IF(D36="Would be remotely possible",2,IF(D36="Would be extremely remote but possible",0.5,IF(D36="Would be almost impossible",0.1,""))))))) | G36: =IF(F36="The expected result",10,IF(F36="The probable result",8,IF(F36="An unusual result",6,IF(F36="A remotely possible event",4,IF(F36="A practically impossible result",2,""))))) | I36: =IF(H36="Almost Never",12,IF(H36="Rare",8,IF(H36="Occasionally",6,IF(H36="Usual",4,IF(H36="Frequently",2,IF(H36="Continuous",1,"")))))) | J36: =IF(D36="Will probably happen",SUM(I36*G36*E36),IF(D36="Very high likelihood of occurring",SUM(I36*G36*E36),IF(D36="Is quite possible/Has happened before",SUM(I36*G36*E36),IF(D36="Would be an unusual event",SUM(I36*G36*E36),IF(D36="Would be remotely possible",SUM(I36*G36*E36),IF(D36="Would be extremely remote but possible",SUM(I36*G36*E36),IF(D36="Would be almost impossible",SUM(I36*G36*E36),"")))))))
B37: Air Quality | E37: =IF(D37="Will probably happen",10,IF(D37="Very high likelihood of occurring",8,IF(D37="Is quite possible/Has happened before",6,IF(D37="Would be an unusual event",4,IF(D37="Would be remotely possible",2,IF(D37="Would be extremely remote but possible",0.5,IF(D37="Would be almost impossible",0.1,""))))))) | G37: =IF(F37="The expected result",10,IF(F37="The probable result",8,IF(F37="An unusual result",6,IF(F37="A remotely possible event",4,IF(F37="A practically impossible result",2,""))))) | I37: =IF(H37="Almost Never",12,IF(H37="Rare",8,IF(H37="Occasionally",6,IF(H37="Usual",4,IF(H37="Frequently",2,IF(H37="Continuous",1,"")))))) | J37: =IF(D37="Will probably happen",SUM(I37*G37*E37),IF(D37="Very high likelihood of occurring",SUM(I37*G37*E37),IF(D37="Is quite possible/Has happened before",SUM(I37*G37*E37),IF(D37="Would be an unusual event",SUM(I37*G37*E37),IF(D37="Would be remotely possible",SUM(I37*G37*E37),IF(D37="Would be extremely remote but possible",SUM(I37*G37*E37),IF(D37="Would be almost impossible",SUM(I37*G37*E37),"")))))))
B38: Mould | E38: =IF(D38="Will probably happen",10,IF(D38="Very high likelihood of occurring",8,IF(D38="Is quite possible/Has happened before",6,IF(D38="Would be an unusual event",4,IF(D38="Would be remotely possible",2,IF(D38="Would be extremely remote but possible",0.5,IF(D38="Would be almost impossible",0.1,""))))))) | G38: =IF(F38="The expected result",10,IF(F38="The probable result",8,IF(F38="An unusual result",6,IF(F38="A remotely possible event",4,IF(F38="A practically impossible result",2,""))))) | I38: =IF(H38="Almost Never",12,IF(H38="Rare",8,IF(H38="Occasionally",6,IF(H38="Usual",4,IF(H38="Frequently",2,IF(H38="Continuous",1,"")))))) | J38: =IF(D38="Will probably happen",SUM(I38*G38*E38),IF(D38="Very high likelihood of occurring",SUM(I38*G38*E38),IF(D38="Is quite possible/Has happened before",SUM(I38*G38*E38),IF(D38="Would be an unusual event",SUM(I38*G38*E38),IF(D38="Would be remotely possible",SUM(I38*G38*E38),IF(D38="Would be extremely remote but possible",SUM(I38*G38*E38),IF(D38="Would be almost impossible",SUM(I38*G38*E38),"")))))))
B39: Noise | E39: =IF(D39="Will probably happen",10,IF(D39="Very high likelihood of occurring",8,IF(D39="Is quite possible/Has happened before",6,IF(D39="Would be an unusual event",4,IF(D39="Would be remotely possible",2,IF(D39="Would be extremely remote but possible",0.5,IF(D39="Would be almost impossible",0.1,""))))))) | G39: =IF(F39="The expected result",10,IF(F39="The probable result",8,IF(F39="An unusual result",6,IF(F39="A remotely possible event",4,IF(F39="A practically impossible result",2,""))))) | I39: =IF(H39="Almost Never",12,IF(H39="Rare",8,IF(H39="Occasionally",6,IF(H39="Usual",4,IF(H39="Frequently",2,IF(H39="Continuous",1,"")))))) | J39: =IF(D39="Will probably happen",SUM(I39*G39*E39),IF(D39="Very high likelihood of occurring",SUM(I39*G39*E39),IF(D39="Is quite possible/Has happened before",SUM(I39*G39*E39),IF(D39="Would be an unusual event",SUM(I39*G39*E39),IF(D39="Would be remotely possible",SUM(I39*G39*E39),IF(D39="Would be extremely remote but possible",SUM(I39*G39*E39),IF(D39="Would be almost impossible",SUM(I39*G39*E39),"")))))))
A40: Other | E40: =IF(D40="Will probably happen",10,IF(D40="Very high likelihood of occurring",8,IF(D40="Is quite possible/Has happened before",6,IF(D40="Would be an unusual event",4,IF(D40="Would be remotely possible",2,IF(D40="Would be extremely remote but possible",0.5,IF(D40="Would be almost impossible",0.1,""))))))) | G40: =IF(F40="The expected result",10,IF(F40="The probable result",8,IF(F40="An unusual result",6,IF(F40="A remotely possible event",4,IF(F40="A practically impossible result",2,""))))) | I40: =IF(H40="Almost Never",12,IF(H40="Rare",8,IF(H40="Occasionally",6,IF(H40="Usual",4,IF(H40="Frequently",2,IF(H40="Continuous",1,"")))))) | J40: =IF(D40="Will probably happen",SUM(I40*G40*E40),IF(D40="Very high likelihood of occurring",SUM(I40*G40*E40),IF(D40="Is quite possible/Has happened before",SUM(I40*G40*E40),IF(D40="Would be an unusual event",SUM(I40*G40*E40),IF(D40="Would be remotely possible",SUM(I40*G40*E40),IF(D40="Would be extremely remote but possible",SUM(I40*G40*E40),IF(D40="Would be almost impossible",SUM(I40*G40*E40),"")))))))
A41: Other | E41: =IF(D41="Will probably happen",10,IF(D41="Very high likelihood of occurring",8,IF(D41="Is quite possible/Has happened before",6,IF(D41="Would be an unusual event",4,IF(D41="Would be remotely possible",2,IF(D41="Would be extremely remote but possible",0.5,IF(D41="Would be almost impossible",0.1,""))))))) | G41: =IF(F41="The expected result",10,IF(F41="The probable result",8,IF(F41="An unusual result",6,IF(F41="A remotely possible event",4,IF(F41="A practically impossible result",2,""))))) | I41: =IF(H41="Almost Never",12,IF(H41="Rare",8,IF(H41="Occasionally",6,IF(H41="Usual",4,IF(H41="Frequently",2,IF(H41="Continuous",1,"")))))) | J41: =IF(D41="Will probably happen",SUM(I41*G41*E41),IF(D41="Very high likelihood of occurring",SUM(I41*G41*E41),IF(D41="Is quite possible/Has happened before",SUM(I41*G41*E41),IF(D41="Would be an unusual event",SUM(I41*G41*E41),IF(D41="Would be remotely possible",SUM(I41*G41*E41),IF(D41="Would be extremely remote but possible",SUM(I41*G41*E41),IF(D41="Would be almost impossible",SUM(I41*G41*E41),"")))))))
A42: Psychosocial
B43: Stress | E43: =IF(D43="Will probably happen",10,IF(D43="Very high likelihood of occurring",8,IF(D43="Is quite possible/Has happened before",6,IF(D43="Would be an unusual event",4,IF(D43="Would be remotely possible",2,IF(D43="Would be extremely remote but possible",0.5,IF(D43="Would be almost impossible",0.1,""))))))) | G43: =IF(F43="The expected result",10,IF(F43="The probable result",8,IF(F43="An unusual result",6,IF(F43="A remotely possible event",4,IF(F43="A practically impossible result",2,""))))) | I43: =IF(H43="Almost Never",12,IF(H43="Rare",8,IF(H43="Occasionally",6,IF(H43="Usual",4,IF(H43="Frequently",2,IF(H43="Continuous",1,"")))))) | J43: =IF(D43="Will probably happen",SUM(I43*G43*E43),IF(D43="Very high likelihood of occurring",SUM(I43*G43*E43),IF(D43="Is quite possible/Has happened before",SUM(I43*G43*E43),IF(D43="Would be an unusual event",SUM(I43*G43*E43),IF(D43="Would be remotely possible",SUM(I43*G43*E43),IF(D43="Would be extremely remote but possible",SUM(I43*G43*E43),IF(D43="Would be almost impossible",SUM(I43*G43*E43),"")))))))
B44: Violence | E44: =IF(D44="Will probably happen",10,IF(D44="Very high likelihood of occurring",8,IF(D44="Is quite possible/Has happened before",6,IF(D44="Would be an unusual event",4,IF(D44="Would be remotely possible",2,IF(D44="Would be extremely remote but possible",0.5,IF(D44="Would be almost impossible",0.1,""))))))) | G44: =IF(F44="The expected result",10,IF(F44="The probable result",8,IF(F44="An unusual result",6,IF(F44="A remotely possible event",4,IF(F44="A practically impossible result",2,""))))) | I44: =IF(H44="Almost Never",12,IF(H44="Rare",8,IF(H44="Occasionally",6,IF(H44="Usual",4,IF(H44="Frequently",2,IF(H44="Continuous",1,"")))))) | J44: =IF(D44="Will probably happen",SUM(I44*G44*E44),IF(D44="Very high likelihood of occurring",SUM(I44*G44*E44),IF(D44="Is quite possible/Has happened before",SUM(I44*G44*E44),IF(D44="Would be an unusual event",SUM(I44*G44*E44),IF(D44="Would be remotely possible",SUM(I44*G44*E44),IF(D44="Would be extremely remote but possible",SUM(I44*G44*E44),IF(D44="Would be almost impossible",SUM(I44*G44*E44),"")))))))
B45: Bullying | E45: =IF(D45="Will probably happen",10,IF(D45="Very high likelihood of occurring",8,IF(D45="Is quite possible/Has happened before",6,IF(D45="Would be an unusual event",4,IF(D45="Would be remotely possible",2,IF(D45="Would be extremely remote but possible",0.5,IF(D45="Would be almost impossible",0.1,""))))))) | G45: =IF(F45="The expected result",10,IF(F45="The probable result",8,IF(F45="An unusual result",6,IF(F45="A remotely possible event",4,IF(F45="A practically impossible result",2,""))))) | I45: =IF(H45="Almost Never",12,IF(H45="Rare",8,IF(H45="Occasionally",6,IF(H45="Usual",4,IF(H45="Frequently",2,IF(H45="Continuous",1,"")))))) | J45: =IF(D45="Will probably happen",SUM(I45*G45*E45),IF(D45="Very high likelihood of occurring",SUM(I45*G45*E45),IF(D45="Is quite possible/Has happened before",SUM(I45*G45*E45),IF(D45="Would be an unusual event",SUM(I45*G45*E45),IF(D45="Would be remotely possible",SUM(I45*G45*E45),IF(D45="Would be extremely remote but possible",SUM(I45*G45*E45),IF(D45="Would be almost impossible",SUM(I45*G45*E45),"")))))))
B46: Threatening Behaviour | E46: =IF(D46="Will probably happen",10,IF(D46="Very high likelihood of occurring",8,IF(D46="Is quite possible/Has happened before",6,IF(D46="Would be an unusual event",4,IF(D46="Would be remotely possible",2,IF(D46="Would be extremely remote but possible",0.5,IF(D46="Would be almost impossible",0.1,""))))))) | G46: =IF(F46="The expected result",10,IF(F46="The probable result",8,IF(F46="An unusual result",6,IF(F46="A remotely possible event",4,IF(F46="A practically impossible result",2,""))))) | I46: =IF(H46="Almost Never",12,IF(H46="Rare",8,IF(H46="Occasionally",6,IF(H46="Usual",4,IF(H46="Frequently",2,IF(H46="Continuous",1,"")))))) | J46: =IF(D46="Will probably happen",SUM(I46*G46*E46),IF(D46="Very high likelihood of occurring",SUM(I46*G46*E46),IF(D46="Is quite possible/Has happened before",SUM(I46*G46*E46),IF(D46="Would be an unusual event",SUM(I46*G46*E46),IF(D46="Would be remotely possible",SUM(I46*G46*E46),IF(D46="Would be extremely remote but possible",SUM(I46*G46*E46),IF(D46="Would be almost impossible",SUM(I46*G46*E46),"")))))))
A47: Other | E47: =IF(D47="Will probably happen",10,IF(D47="Very high likelihood of occurring",8,IF(D47="Is quite possible/Has happened before",6,IF(D47="Would be an unusual event",4,IF(D47="Would be remotely possible",2,IF(D47="Would be extremely remote but possible",0.5,IF(D47="Would be almost impossible",0.1,""))))))) | G47: =IF(F47="The expected result",10,IF(F47="The probable result",8,IF(F47="An unusual result",6,IF(F47="A remotely possible event",4,IF(F47="A practically impossible result",2,""))))) | I47: =IF(H47="Almost Never",12,IF(H47="Rare",8,IF(H47="Occasionally",6,IF(H47="Usual",4,IF(H47="Frequently",2,IF(H47="Continuous",1,"")))))) | J47: =IF(D47="Will probably happen",SUM(I47*G47*E47),IF(D47="Very high likelihood of occurring",SUM(I47*G47*E47),IF(D47="Is quite possible/Has happened before",SUM(I47*G47*E47),IF(D47="Would be an unusual event",SUM(I47*G47*E47),IF(D47="Would be remotely possible",SUM(I47*G47*E47),IF(D47="Would be extremely remote but possible",SUM(I47*G47*E47),IF(D47="Would be almost impossible",SUM(I47*G47*E47),"")))))))
A48: Other | E48: =IF(D48="Will probably happen",10,IF(D48="Very high likelihood of occurring",8,IF(D48="Is quite possible/Has happened before",6,IF(D48="Would be an unusual event",4,IF(D48="Would be remotely possible",2,IF(D48="Would be extremely remote but possible",0.5,IF(D48="Would be almost impossible",0.1,""))))))) | G48: =IF(F48="The expected result",10,IF(F48="The probable result",8,IF(F48="An unusual result",6,IF(F48="A remotely possible event",4,IF(F48="A practically impossible result",2,""))))) | I48: =IF(H48="Almost Never",12,IF(H48="Rare",8,IF(H48="Occasionally",6,IF(H48="Usual",4,IF(H48="Frequently",2,IF(H48="Continuous",1,"")))))) | J48: =IF(D48="Will probably happen",SUM(I48*G48*E48),IF(D48="Very high likelihood of occurring",SUM(I48*G48*E48),IF(D48="Is quite possible/Has happened before",SUM(I48*G48*E48),IF(D48="Would be an unusual event",SUM(I48*G48*E48),IF(D48="Would be remotely possible",SUM(I48*G48*E48),IF(D48="Would be extremely remote but possible",SUM(I48*G48*E48),IF(D48="Would be almost impossible",SUM(I48*G48*E48),"")))))))
A49: Safety
B50: Driving | E50: =IF(D50="Will probably happen",10,IF(D50="Very high likelihood of occurring",8,IF(D50="Is quite possible/Has happened before",6,IF(D50="Would be an unusual event",4,IF(D50="Would be remotely possible",2,IF(D50="Would be extremely remote but possible",0.5,IF(D50="Would be almost impossible",0.1,""))))))) | G50: =IF(F50="The expected result",10,IF(F50="The probable result",8,IF(F50="An unusual result",6,IF(F50="A remotely possible event",4,IF(F50="A practically impossible result",2,""))))) | I50: =IF(H50="Almost Never",12,IF(H50="Rare",8,IF(H50="Occasionally",6,IF(H50="Usual",4,IF(H50="Frequently",2,IF(H50="Continuous",1,"")))))) | J50: =IF(D50="Will probably happen",SUM(I50*G50*E50),IF(D50="Very high likelihood of occurring",SUM(I50*G50*E50),IF(D50="Is quite possible/Has happened before",SUM(I50*G50*E50),IF(D50="Would be an unusual event",SUM(I50*G50*E50),IF(D50="Would be remotely possible",SUM(I50*G50*E50),IF(D50="Would be extremely remote but possible",SUM(I50*G50*E50),IF(D50="Would be almost impossible",SUM(I50*G50*E50),"")))))))
B51: Electrical | E51: =IF(D51="Will probably happen",10,IF(D51="Very high likelihood of occurring",8,IF(D51="Is quite possible/Has happened before",6,IF(D51="Would be an unusual event",4,IF(D51="Would be remotely possible",2,IF(D51="Would be extremely remote but possible",0.5,IF(D51="Would be almost impossible",0.1,""))))))) | G51: =IF(F51="The expected result",10,IF(F51="The probable result",8,IF(F51="An unusual result",6,IF(F51="A remotely possible event",4,IF(F51="A practically impossible result",2,""))))) | I51: =IF(H51="Almost Never",12,IF(H51="Rare",8,IF(H51="Occasionally",6,IF(H51="Usual",4,IF(H51="Frequently",2,IF(H51="Continuous",1,"")))))) | J51: =IF(D51="Will probably happen",SUM(I51*G51*E51),IF(D51="Very high likelihood of occurring",SUM(I51*G51*E51),IF(D51="Is quite possible/Has happened before",SUM(I51*G51*E51),IF(D51="Would be an unusual event",SUM(I51*G51*E51),IF(D51="Would be remotely possible",SUM(I51*G51*E51),IF(D51="Would be extremely remote but possible",SUM(I51*G51*E51),IF(D51="Would be almost impossible",SUM(I51*G51*E51),"")))))))
B52: Forklifts | E52: =IF(D52="Will probably happen",10,IF(D52="Very high likelihood of occurring",8,IF(D52="Is quite possible/Has happened before",6,IF(D52="Would be an unusual event",4,IF(D52="Would be remotely possible",2,IF(D52="Would be extremely remote but possible",0.5,IF(D52="Would be almost impossible",0.1,""))))))) | G52: =IF(F52="The expected result",10,IF(F52="The probable result",8,IF(F52="An unusual result",6,IF(F52="A remotely possible event",4,IF(F52="A practically impossible result",2,""))))) | I52: =IF(H52="Almost Never",12,IF(H52="Rare",8,IF(H52="Occasionally",6,IF(H52="Usual",4,IF(H52="Frequently",2,IF(H52="Continuous",1,"")))))) | J52: =IF(D52="Will probably happen",SUM(I52*G52*E52),IF(D52="Very high likelihood of occurring",SUM(I52*G52*E52),IF(D52="Is quite possible/Has happened before",SUM(I52*G52*E52),IF(D52="Would be an unusual event",SUM(I52*G52*E52),IF(D52="Would be remotely possible",SUM(I52*G52*E52),IF(D52="Would be extremely remote but possible",SUM(I52*G52*E52),IF(D52="Would be almost impossible",SUM(I52*G52*E52),"")))))))
B53: Ladders | E53: =IF(D53="Will probably happen",10,IF(D53="Very high likelihood of occurring",8,IF(D53="Is quite possible/Has happened before",6,IF(D53="Would be an unusual event",4,IF(D53="Would be remotely possible",2,IF(D53="Would be extremely remote but possible",0.5,IF(D53="Would be almost impossible",0.1,""))))))) | G53: =IF(F53="The expected result",10,IF(F53="The probable result",8,IF(F53="An unusual result",6,IF(F53="A remotely possible event",4,IF(F53="A practically impossible result",2,""))))) | I53: =IF(H53="Almost Never",12,IF(H53="Rare",8,IF(H53="Occasionally",6,IF(H53="Usual",4,IF(H53="Frequently",2,IF(H53="Continuous",1,"")))))) | J53: =IF(D53="Will probably happen",SUM(I53*G53*E53),IF(D53="Very high likelihood of occurring",SUM(I53*G53*E53),IF(D53="Is quite possible/Has happened before",SUM(I53*G53*E53),IF(D53="Would be an unusual event",SUM(I53*G53*E53),IF(D53="Would be remotely possible",SUM(I53*G53*E53),IF(D53="Would be extremely remote but possible",SUM(I53*G53*E53),IF(D53="Would be almost impossible",SUM(I53*G53*E53),"")))))))
B54: Machinery | E54: =IF(D54="Will probably happen",10,IF(D54="Very high likelihood of occurring",8,IF(D54="Is quite possible/Has happened before",6,IF(D54="Would be an unusual event",4,IF(D54="Would be remotely possible",2,IF(D54="Would be extremely remote but possible",0.5,IF(D54="Would be almost impossible",0.1,""))))))) | G54: =IF(F54="The expected result",10,IF(F54="The probable result",8,IF(F54="An unusual result",6,IF(F54="A remotely possible event",4,IF(F54="A practically impossible result",2,""))))) | I54: =IF(H54="Almost Never",12,IF(H54="Rare",8,IF(H54="Occasionally",6,IF(H54="Usual",4,IF(H54="Frequently",2,IF(H54="Continuous",1,"")))))) | J54: =IF(D54="Will probably happen",SUM(I54*G54*E54),IF(D54="Very high likelihood of occurring",SUM(I54*G54*E54),IF(D54="Is quite possible/Has happened before",SUM(I54*G54*E54),IF(D54="Would be an unusual event",SUM(I54*G54*E54),IF(D54="Would be remotely possible",SUM(I54*G54*E54),IF(D54="Would be extremely remote but possible",SUM(I54*G54*E54),IF(D54="Would be almost impossible",SUM(I54*G54*E54),"")))))))
B55: Confined Spaces | E55: =IF(D55="Will probably happen",10,IF(D55="Very high likelihood of occurring",8,IF(D55="Is quite possible/Has happened before",6,IF(D55="Would be an unusual event",4,IF(D55="Would be remotely possible",2,IF(D55="Would be extremely remote but possible",0.5,IF(D55="Would be almost impossible",0.1,""))))))) | G55: =IF(F55="The expected result",10,IF(F55="The probable result",8,IF(F55="An unusual result",6,IF(F55="A remotely possible event",4,IF(F55="A practically impossible result",2,""))))) | I55: =IF(H55="Almost Never",12,IF(H55="Rare",8,IF(H55="Occasionally",6,IF(H55="Usual",4,IF(H55="Frequently",2,IF(H55="Continuous",1,"")))))) | J55: =IF(D55="Will probably happen",SUM(I55*G55*E55),IF(D55="Very high likelihood of occurring",SUM(I55*G55*E55),IF(D55="Is quite possible/Has happened before",SUM(I55*G55*E55),IF(D55="Would be an unusual event",SUM(I55*G55*E55),IF(D55="Would be remotely possible",SUM(I55*G55*E55),IF(D55="Would be extremely remote but possible",SUM(I55*G55*E55),IF(D55="Would be almost impossible",SUM(I55*G55*E55),"")))))))
A56: Other | E56: =IF(D56="Will probably happen",10,IF(D56="Very high likelihood of occurring",8,IF(D56="Is quite possible/Has happened before",6,IF(D56="Would be an unusual event",4,IF(D56="Would be remotely possible",2,IF(D56="Would be extremely remote but possible",0.5,IF(D56="Would be almost impossible",0.1,""))))))) | G56: =IF(F56="The expected result",10,IF(F56="The probable result",8,IF(F56="An unusual result",6,IF(F56="A remotely possible event",4,IF(F56="A practically impossible result",2,""))))) | I56: =IF(H56="Almost Never",12,IF(H56="Rare",8,IF(H56="Occasionally",6,IF(H56="Usual",4,IF(H56="Frequently",2,IF(H56="Continuous",1,"")))))) | J56: =IF(D56="Will probably happen",SUM(I56*G56*E56),IF(D56="Very high likelihood of occurring",SUM(I56*G56*E56),IF(D56="Is quite possible/Has happened before",SUM(I56*G56*E56),IF(D56="Would be an unusual event",SUM(I56*G56*E56),IF(D56="Would be remotely possible",SUM(I56*G56*E56),IF(D56="Would be extremely remote but possible",SUM(I56*G56*E56),IF(D56="Would be almost impossible",SUM(I56*G56*E56),"")))))))
A57: Other | G57: =IF(F57="The expected result",10,IF(F57="The probable result",8,IF(F57="An unusual result",6,IF(F57="A remotely possible event",4,IF(F57="A practically impossible result",2,""))))) | I57: =IF(H57="Almost Never",12,IF(H57="Rare",8,IF(H57="Occasionally",6,IF(H57="Usual",4,IF(H57="Frequently",2,IF(H57="Continuous",1,"")))))) | J57: =IF(D57="Will probably happen",SUM(I57*G57*E57),IF(D57="Very high likelihood of occurring",SUM(I57*G57*E57),IF(D57="Is quite possible/Has happened before",SUM(I57*G57*E57),IF(D57="Would be an unusual event",SUM(I57*G57*E57),IF(D57="Would be remotely possible",SUM(I57*G57*E57),IF(D57="Would be extremely remote but possible",SUM(I57*G57*E57),IF(D57="Would be almost impossible",SUM(I57*G57*E57),"")))))))
I58: =IF(H58="Almost Never",12,IF(H58="Rare",8,IF(H58="Occasionally",6,IF(H58="Usual",4,IF(H58="Frequently",2,IF(H58="Continuous",1,"")))))) | J58: =IF(D58="Will probably happen",SUM(I58*G58*E58),IF(D58="Very high likelihood of occurring",SUM(I58*G58*E58),IF(D58="Is quite possible/Has happened before",SUM(I58*G58*E58),IF(D58="Would be an unusual event",SUM(I58*G58*E58),IF(D58="Would be remotely possible",SUM(I58*G58*E58),IF(D58="Would be extremely remote but possible",SUM(I58*G58*E58),IF(D58="Would be almost impossible",SUM(I58*G58*E58),"")))))))

Sheet Page 2 Check-in Procedure
A1: Working Alone or in Isolation Check-in Procedures
A3: Part 1: General Information
A4: Employee Name: | B4: ='Page 1 Hazard Risk Assessment'!B7 -> 0 | H4: Description of Employee's Vehicle and License Plate (optional):
A5: Employee Title: | B5: ='Page 1 Hazard Risk Assessment'!B4 -> 0 | H5: Employee Phone Number
A6: Emergency Contact Name and Relation: | H6: Emergency Contact Phone Number:
A7: Additional Comments
A9: Part 2: Work Information
A10: Supervisor Name: | B10: ='Page 1 Hazard Risk Assessment'!D7 -> 0 | H10: Contact Info:
A11: Supervisor Title: | H11: Department:
A12: Location where work will be performed: | H12: Regular Office Hours of Department:
A14: Describe the job/tasks that will be performed while working alone:
A16: Risk Score | B16: ='Page 1 Hazard Risk Assessment'!J17 -> 0
A17: Check-in Required: | B17: =IF(B16<=200,"Low - No check-in procedure is required but may still be implemented",IF(AND(B16>200,B16<=400),"Moderate - A check-in procedure must be implemented. Recommended: minimum of beginning and end of shift",IF(B16>400,"High - Checks must be frequent and other mitigation considered and implemented. Recommended check-in every two hours.",""))) -> Low - No check-in procedure is required but may still be implemented
A20: Part 3: Check-in Procedure | I20: Check in and Emergency Escalation Procedure
A21: Name of Check-in Designate: | I21: 1. The worker will check in with the check-in designate as indicated under "Days and Frequency of Check-in"
A22: Title of Check in Designate: | I22: 2. If the worker does not check in at the predetermined check-in time, the check-in designate will attempt to check-in with the worker within 5 minutes of predetermined time.
A23: Method of Check-in
A24: In Person | B24: Location for Check in: | I24: NOTE: If the individual working alone is not available at the determined check-in time, this individual must communicate a new check in time with the designate.
A25: By Telephone | B25: Employees Phone Number:
B26: Designates Phone Number: | I26: 3. If the Check-in Designate does not make contact with the worker, they will make another attempt within 10 minutes of the predetermined time.
A27: Other | I27: 4. If the check-in designate is unable to make contact with the worker after the second attempt, they will visit the work location and check in on the worker in-person if safe to do so.
A29: Days and Frequency of Check in
A30: *Period (if applicable) | I30: 5. If the designate is unable to locate or make contact with the worker, the Check-in Designate will contact the worker’s emergency contact to verify it is not a false alarm (this must be done delicately so as not to cause alarm to the family).
B31: Sun | C31: Mon | D31: Tues | E31: Wed | F31: Thurs | G31: Fri | H31: Sat
A32: First Check in:
A33: Second Check in:
A34: Third Check in: | I34: 6. If the worker was not located or contacted through communications with their emergency contact, the Check-in Designate will contact 911 and their supervisor.
A35: Fourth Check in:
A36: *Period refers to the weeks or time during which a check in is required. This would be applicable for CE courses or department with reduced staffing that results in a worker working alone who may not normally work alone.

Sheet Check-in Record
A1: Working Alone or In Isolation Check-in Form
A2: Name of Check-in Designate: | C2: ='Page 2 Check-in Procedure'!B21:H21 -> 0 | H2: Title | K2: ='Page 2 Check-in Procedure'!B22 -> 0
A3: Employee Name: | B3: ='Page 1 Hazard Risk Assessment'!B7 -> 0 | H3: Vehicle + License Plate | K3: ='Page 2 Check-in Procedure'!J4 -> 0
A4: Employee Title: | B4: ='Page 1 Hazard Risk Assessment'!B3:B3 -> 0 | H4: Phone Number: | K4: ='Page 2 Check-in Procedure'!J5 -> 0
A5: Emergency Contact: | B5: ='Page 2 Check-in Procedure'!B6:G6 -> 0 | H5: Phone Number: | K5: ='Page 2 Check-in Procedure'!J6 -> 0
A6: Supervisor Name: | B6: ='Page 2 Check-in Procedure'!B10:F10 -> 0 | H6: Phone Number: | K6: ='Page 2 Check-in Procedure'!J10 -> 0
A8: Days and Frequency of Check in | I8: Method of Check-in
A9: Period (if applicable): | B9: ='Page 2 Check-in Procedure'!B30:H30 -> 0
B10: Sun | C10: Mon | D10: Tues | E10: Wed | F10: Thurs | G10: Fri | H10: Sat | I10: Location for Check in: | K10: ='Page 2 Check-in Procedure'!E24 -> 0
A11: First Check in: | B11: ='Page 2 Check-in Procedure'!B32 -> 0 | C11: ='Page 2 Check-in Procedure'!C32 -> 0 | D11: ='Page 2 Check-in Procedure'!D32 -> 0 | E11: ='Page 2 Check-in Procedure'!E32 -> 0 | F11: ='Page 2 Check-in Procedure'!F32 -> 0 | G11: ='Page 2 Check-in Procedure'!G32 -> 0 | H11: ='Page 2 Check-in Procedure'!H32 -> 0 | I11: Employee Phone Number: | K11: ='Page 2 Check-in Procedure'!F25 -> 0
A12: Second Check in: | B12: ='Page 2 Check-in Procedure'!B33 -> 0 | C12: ='Page 2 Check-in Procedure'!C33 -> 0 | D12: ='Page 2 Check-in Procedure'!D33 -> 0 | E12: ='Page 2 Check-in Procedure'!E33 -> 0 | F12: ='Page 2 Check-in Procedure'!F33 -> 0 | G12: ='Page 2 Check-in Procedure'!G33 -> 0 | H12: ='Page 2 Check-in Procedure'!H33 -> 0 | I12: Designates Phone Number: | K12: ='Page 2 Check-in Procedure'!F26 -> 0
A13: Third Check in: | B13: ='Page 2 Check-in Procedure'!B34 -> 0 | C13: ='Page 2 Check-in Procedure'!C34 -> 0 | D13: ='Page 2 Check-in Procedure'!D34 -> 0 | E13: ='Page 2 Check-in Procedure'!E34 -> 0 | F13: ='Page 2 Check-in Procedure'!F34 -> 0 | G13: ='Page 2 Check-in Procedure'!G34 -> 0 | H13: ='Page 2 Check-in Procedure'!H34 -> 0 | I13: Other: | K13: ='Page 2 Check-in Procedure'!B27 -> 0
A14: Fourth Check in: | B14: ='Page 2 Check-in Procedure'!B35 -> 0 | C14: ='Page 2 Check-in Procedure'!C35 -> 0 | D14: ='Page 2 Check-in Procedure'!D35 -> 0 | E14: ='Page 2 Check-in Procedure'!E35 -> 0 | F14: ='Page 2 Check-in Procedure'!F35 -> 0 | G14: ='Page 2 Check-in Procedure'!G35 -> 0 | H14: ='Page 2 Check-in Procedure'!H35 -> 0
A16: Check in Record
A17: Date | B17: Check-in Time | E17: Method of Communication | H17: Check in Designate Signature | J17: Comments
A41: Check in and Emergency Escalation Procedure | J41: Comments
A42: 1. The worker will check in with the check-in designate as indicated under "Days and Frequency of Check-in"
A43: 2. If the worker does not check in at the predetermined check-in time, the check-in designate will attempt to check-in with the worker within 5 minutes of predetermined time.
A44: NOTE: If the individual working alone is not available at the determined check-in time, this individual must communicate a new check in time with the designate.
A45: 3. If the Check-in Designate does not make contact with the worker, they will make another attempt within 10 minutes of the predetermined time.
A46: 4. If the check-in designate is unable to make contact with the worker after the second attempt, they will visit the work location and check in on the worker in-person if safe to do so.
A47: 5. If the designate is unable to locate or make contact with the worker, the Check-in Designate will contact the worker’s emergency contact to verify it is not a false alarm (this must be done delicately so as not to cause alarm to the family).
A48: 6. If the worker was not located or contacted through communications with their emergency contact, the Check-in Designate will contact 911 and their supervisor.
